Workbook

Sheet Evolução
A1: https://www.gov.br/servidor/pt-br/observatorio-de-pessoal-govbr/tabela-de-remuneracao-dos-servidores-publicos-federais-civis-e-dos-ex-territorios
A3: Carreira | B3: 39934 | C3: 39965 | D3: 39995 | E3: 40026 | F3: 40057 | G3: 40087 | H3: 40118 | I3: 40148 | J3: 40179 | K3: 40210 | L3: 40238 | M3: 40269 | N3: 40299 | O3: 40330 | P3: 40360 | Q3: 40391 | R3: 40422 | S3: 40452 | T3: 40483 | U3: 40513 | V3: 40544 | W3: 40575 | X3: 40603 | Y3: 40634 | Z3: 40664 | AA3: 40695 | AB3: 40725 | AC3: 40756 | AD3: 40787 | AE3: 40817 | AF3: 40848 | AG3: 40878 | AH3: 40909 | AI3: 40940 | AJ3: 40969 | AK3: 41000 | AL3: 41030 | AM3: 41061 | AN3: 41091 | AO3: 41122 | AP3: 41153 | AQ3: 41183 | AR3: 41214 | AS3: 41244 | AT3: 41275 | AU3: 41306 | AV3: 41334 | AW3: 41365 | AX3: 41395 | AY3: 41426 | AZ3: 41456 | BA3: 41487 | BB3: 41518 | BC3: 41548 | BD3: 41579 | BE3: 41609 | BF3: 41640 | BG3: 41671 | BH3: 41699 | BI3: 41730 | BJ3: 41760 | BK3: 41791 | BL3: 41821 | BM3: 41852 | BN3: 41883 | BO3: 41913 | BP3: 41944 | BQ3: 41974 | BR3: 42005 | BS3: 42036 | BT3: 42064 | BU3: 42095 | BV3: 42125 | BW3: 42156 | BX3: 42186 | BY3: 42217 | BZ3: 42248 | CA3: 42278 | CB3: 42309 | CC3: 42339 | CD3: 42370 | CE3: 42401 | CF3: 42430 | CG3: 42461 | CH3: 42491 | CI3: 42522 | CJ3: 42552 | CK3: 42583 | CL3: 42614 | CM3: 42644 | CN3: 42675 | CO3: 42705 | CP3: 42736 | CQ3: 42767 | CR3: 42795 | CS3: 42826 | CT3: 42856 | CU3: 42887 | CV3: 42917 | CW3: 42948 | CX3: 42979 | CY3: 43009 | CZ3: 43040 | DA3: 43070 | DB3: 43101 | DC3: 43132 | DD3: 43160 | DE3: 43191 | DF3: 43221 | DG3: 43252 | DH3: 43282 | DI3: 43313 | DJ3: 43344 | DK3: 43374 | DL3: 43405 | DM3: 43435 | DN3: 43466 | DO3: 43497 | DP3: 43525 | DQ3: 43556 | DR3: 43586 | DS3: 43617 | DT3: 43647 | DU3: 43678 | DV3: 43709 | DW3: 43739 | DX3: 43770 | DY3: 43800 | DZ3: 43831 | EA3: 43862 | EB3: 43891 | EC3: 43922 | ED3: 43952 | EE3: 43983 | EF3: 44013 | EG3: 44044 | EH3: 44075 | EI3: 44105 | EJ3: 44136 | EK3: 44166 | EL3: 44197 | EM3: 44228 | EN3: 44256 | EO3: 44287 | EP3: 44317 | EQ3: 44348 | ER3: 44378 | ES3: 44409 | ET3: 44440 | EU3: 44470 | EV3: 44501 | EW3: 44531 | EX3: 44562 | EY3: 44593 | EZ3: 44621 | FA3: 44652 | FB3: 44682 | FC3: 44713 | FD3: 44743 | FE3: 44774 | FF3: 44805 | FG3: 44835 | FH3: 44866 | FI3: 44896 | FJ3: 44927 | FK3: 44958 | FL3: 44986 | FM3: 45017 | FN3: 45047 | FO3: 45078 | FP3: 45108 | FQ3: 45139 | FR3: 45170 | FS3: 45200 | FT3: 45231 | FU3: 45261 | FV3: 45292 | FW3: 45323 | FX3: 45352 | FY3: 45383 | FZ3: 45413 | GA3: 45444 | GB3: 45474 | GC3: 45505 | GD3: 45536 | GE3: 45566 | GF3: 45597 | GG3: 45627 | GH3: 45658 | GI3: 45689 | GJ3: 45717 | GK3: 45748 | GL3: 45778 | GM3: 45809 | GN3: 45839 | GO3: 45870 | GP3: 45901 | GQ3: 45931 | GR3: 45962 | GS3: 45992 | GT3: 46023 | GU3: 46054 | GV3: 46082 | GW3: 46113 | GX3: 46143
A4: Receita | B4: 16680 | C4: 16680 | D4: 18260 | E4: 18260 | F4: 18260 | G4: 18260 | H4: 18260 | I4: 18260 | J4: 18260 | K4: 18260 | L4: 18260 | M4: 18260 | N4: 18260 | O4: 18260 | P4: 19451 | Q4: 19451 | R4: 19451 | S4: 19451 | T4: 19451 | U4: 19451 | V4: 19451 | W4: 19451 | X4: 19451 | Y4: 19451 | Z4: 19451 | AA4: 19451 | AB4: 19451 | AC4: 19451 | AD4: 19451 | AE4: 19451 | AF4: 19451 | AG4: 19451 | AH4: 19451 | AI4: 19451 | AJ4: 19451 | AK4: 19451 | AL4: 19451 | AM4: 19451 | AN4: 19451 | AO4: 19451 | AP4: 19451 | AQ4: 19451 | AR4: 19451 | AS4: 19451 | AT4: 20423.55 | AU4: 20423.55 | AV4: 20423.55 | AW4: 20423.55 | AX4: 20423.55 | AY4: 20423.55 | AZ4: 20423.55 | BA4: 20423.55 | BB4: 20423.55 | BC4: 20423.55 | BD4: 20423.55 | BE4: 20423.55 | BF4: 21403.88 | BG4: 21403.88 | BH4: 21403.88 | BI4: 21403.88 | BJ4: 21403.88 | BK4: 21403.88 | BL4: 21403.88 | BM4: 21403.88 | BN4: 21403.88 | BO4: 21403.88 | BP4: 21403.88 | BQ4: 21403.88 | BR4: 22516.88 | BS4: 22516.88 | BT4: 22516.88 | BU4: 22516.88 | BV4: 22516.88 | BW4: 22516.88 | BX4: 22516.88 | BY4: 22516.88 | BZ4: 22516.88 | CA4: 22516.88 | CB4: 22516.88 | CC4: 22516.88 | CD4: 22516.88 | CE4: 22516.88 | CF4: 22516.88 | CG4: 22516.88 | CH4: 22516.88 | CI4: 22516.88 | CJ4: 22516.88 | CK4: 22516.88 | CL4: 22516.88 | CM4: 22516.88 | CN4: 22516.88 | CO4: 22516.88 | CP4: 27943.07 | CQ4: 27943.07 | CR4: 27943.07 | CS4: 27943.07 | CT4: 27943.07 | CU4: 27943.07 | CV4: 27943.07 | CW4: 27943.07 | CX4: 27943.07 | CY4: 27943.07 | CZ4: 27943.07 | DA4: 27943.07 | DB4: 29127.87 | DC4: 29127.87 | DD4: 29127.87 | DE4: 29127.87 | DF4: 29127.87 | DG4: 29127.87 | DH4: 29127.87 | DI4: 29127.87 | DJ4: 29127.87 | DK4: 29127.87 | DL4: 29127.87 | DM4: 29127.87 | DN4: 30303.62 | DO4: 30303.62 | DP4: 30303.62 | DQ4: 30303.62 | DR4: 30303.62 | DS4: 30303.62 | DT4: 30303.62 | DU4: 30303.62 | DV4: 30303.62 | DW4: 30303.62 | DX4: 30303.62 | DY4: 30303.62 | DZ4: 30303.62 | EA4: 30303.62 | EB4: 30303.62 | EC4: 30303.62 | ED4: 30303.62 | EE4: 30303.62 | EF4: 30303.62 | EG4: 30303.62 | EH4: 30303.62 | EI4: 30303.62 | EJ4: 30303.62 | EK4: 30303.62 | EL4: 30303.62 | EM4: 30303.62 | EN4: 30303.62 | EO4: 30303.62 | EP4: 30303.62 | EQ4: 30303.62 | ER4: 30303.62 | ES4: 30303.62 | ET4: 30303.62 | EU4: 30303.62 | EV4: 30303.62 | EW4: 30303.62 | EX4: 30303.62 | EY4: 30303.62 | EZ4: 30303.62 | FA4: 30303.62 | FB4: 30303.62 | FC4: 30303.62 | FD4: 30303.62 | FE4: 30303.62 | FF4: 30303.62 | FG4: 30303.62 | FH4: 30303.62 | FI4: 30303.62 | FJ4: 30303.62 | FK4: 30303.62 | FL4: 30303.62 | FM4: 30303.62 | FN4: 30303.62 | FO4: 30303.62 | FP4: 32760.95 | FQ4: 32760.95 | FR4: 32760.95 | FS4: 32760.95 | FT4: 32760.95 | FU4: 32760.95 | FV4: 32760.95 | FW4: 32760.95 | FX4: 32760.95 | FY4: 32760.95 | FZ4: 32760.95 | GA4: 32760.95 | GB4: 32760.95 | GC4: 32760.95 | GD4: 32760.95 | GE4: 32760.95 | GF4: 32760.95 | GG4: 32760.95 | GH4: 32760.95 | GI4: 32760.95 | GJ4: 32760.95 | GK4: 32760.95 | GL4: 32760.95 | GM4: 32760.95 | GN4: 32760.95 | GO4: 32760.95 | GP4: 32760.95 | GQ4: 32760.95 | GR4: 32760.95 | GS4: 32760.95 | GT4: =32760.95+8500 -> 41260.95 | GU4: =32760.95+8500 -> 41260.95 | GV4: =32760.95+8500 -> 41260.95 | GW4: =32760.95+8500 -> 41260.95 | GX4: =32760.95+8500 -> 41260.95
A5: PF | B5: 19053.57 | C5: 19053.57 | D5: 19699.82 | E5: 19699.82 | F5: 19699.82 | G5: 19699.82 | H5: 19699.82 | I5: 19699.82 | J5: 19699.82 | K5: 19699.82 | L5: 19699.82 | M5: 19699.82 | N5: 19699.82 | O5: 19699.82 | P5: 19699.82 | Q5: 19699.82 | R5: 19699.82 | S5: 19699.82 | T5: 19699.82 | U5: 19699.82 | V5: 19699.82 | W5: 19699.82 | X5: 19699.82 | Y5: 19699.82 | Z5: 19699.82 | AA5: 19699.82 | AB5: 19699.82 | AC5: 19699.82 | AD5: 19699.82 | AE5: 19699.82 | AF5: 19699.82 | AG5: 19699.82 | AH5: 19699.82 | AI5: 19699.82 | AJ5: 19699.82 | AK5: 19699.82 | AL5: 19699.82 | AM5: 19699.82 | AN5: 19699.82 | AO5: 19699.82 | AP5: 19699.82 | AQ5: 19699.82 | AR5: 19699.82 | AS5: 19699.82 | AT5: 20684.81 | AU5: 20684.81 | AV5: 20684.81 | AW5: 20684.81 | AX5: 20684.81 | AY5: 20684.81 | AZ5: 20684.81 | BA5: 20684.81 | BB5: 20684.81 | BC5: 20684.81 | BD5: 20684.81 | BE5: 20684.81 | BF5: 21719.05 | BG5: 21719.05 | BH5: 21719.05 | BI5: 21719.05 | BJ5: 21719.05 | BK5: 21719.05 | BL5: 21719.05 | BM5: 21719.05 | BN5: 21719.05 | BO5: 21719.05 | BP5: 21719.05 | BQ5: 21719.05 | BR5: 22805 | BS5: 22805 | BT5: 22805 | BU5: 22805 | BV5: 22805 | BW5: 22805 | BX5: 22805 | BY5: 22805 | BZ5: 22805 | CA5: 22805 | CB5: 22805 | CC5: 22805 | CD5: 22805 | CE5: 22805 | CF5: 22805 | CG5: 22805 | CH5: 22805 | CI5: 22805 | CJ5: 22805 | CK5: 22805 | CL5: 22805 | CM5: 22805 | CN5: 22805 | CO5: 22805 | CP5: 28262.24 | CQ5: 28262.24 | CR5: 28262.24 | CS5: 28262.24 | CT5: 28262.24 | CU5: 28262.24 | CV5: 28262.24 | CW5: 28262.24 | CX5: 28262.24 | CY5: 28262.24 | CZ5: 28262.24 | DA5: 28262.24 | DB5: 29604.7 | DC5: 29604.7 | DD5: 29604.7 | DE5: 29604.7 | DF5: 29604.7 | DG5: 29604.7 | DH5: 29604.7 | DI5: 29604.7 | DJ5: 29604.7 | DK5: 29604.7 | DL5: 29604.7 | DM5: 29604.7 | DN5: 30936.91 | DO5: 30936.91 | DP5: 30936.91 | DQ5: 30936.91 | DR5: 30936.91 | DS5: 30936.91 | DT5: 30936.91 | DU5: 30936.91 | DV5: 30936.91 | DW5: 30936.91 | DX5: 30936.91 | DY5: 30936.91 | DZ5: 30936.91 | EA5: 30936.91 | EB5: 30936.91 | EC5: 30936.91 | ED5: 30936.91 | EE5: 30936.91 | EF5: 30936.91 | EG5: 30936.91 | EH5: 30936.91 | EI5: 30936.91 | EJ5: 30936.91 | EK5: 30936.91 | EL5: 30936.91 | EM5: 30936.91 | EN5: 30936.91 | EO5: 30936.91 | EP5: 30936.91 | EQ5: 30936.91 | ER5: 30936.91 | ES5: 30936.91 | ET5: 30936.91 | EU5: 30936.91 | EV5: 30936.91 | EW5: 30936.91 | EX5: 30936.91 | EY5: 30936.91 | EZ5: 30936.91 | FA5: 30936.91 | FB5: 30936.91 | FC5: 30936.91 | FD5: 30936.91 | FE5: 30936.91 | FF5: 30936.91 | FG5: 30936.91 | FH5: 30936.91 | FI5: 30936.91 | FJ5: 30936.91 | FK5: 30936.91 | FL5: 30936.91 | FM5: 30936.91 | FN5: 30936.91 | FO5: 30936.91 | FP5: 33721.23 | FQ5: 33721.23 | FR5: 33721.23 | FS5: 33721.23 | FT5: 33721.23 | FU5: 33721.23 | FV5: 33721.23 | FW5: 33721.23 | FX5: 33721.23 | FY5: 33721.23 | FZ5: 33721.23 | GA5: 33721.23 | GB5: 33721.23 | GC5: 34732.87 | GD5: 34732.87 | GE5: 34732.87 | GF5: 34732.87 | GG5: 34732.87 | GH5: 36469.51 | GI5: 36469.51 | GJ5: 36469.51 | GK5: 36469.51 | GL5: 36469.51 | GM5: 36469.51 | GN5: 36469.51 | GO5: 36469.51 | GP5: 36469.51 | GQ5: 36469.51 | GR5: 36469.51 | GS5: 36469.51 | GT5: 41350 | GU5: 41350 | GV5: 41350 | GW5: 41350 | GX5: 41350
A6: BACEN | B6: 14511.6 | C6: 14511.6 | D6: 17347 | E6: 17347 | F6: 17347 | G6: 17347 | H6: 17347 | I6: 17347 | J6: 17347 | K6: 17347 | L6: 17347 | M6: 17347 | N6: 17347 | O6: 17347 | P6: 18478.45 | Q6: 18478.45 | R6: 18478.45 | S6: 18478.45 | T6: 18478.45 | U6: 18478.45 | V6: 18478.45 | W6: 18478.45 | X6: 18478.45 | Y6: 18478.45 | Z6: 18478.45 | AA6: 18478.45 | AB6: 18478.45 | AC6: 18478.45 | AD6: 18478.45 | AE6: 18478.45 | AF6: 18478.45 | AG6: 18478.45 | AH6: 18478.45 | AI6: 18478.45 | AJ6: 18478.45 | AK6: 18478.45 | AL6: 18478.45 | AM6: 18478.45 | AN6: 18478.45 | AO6: 18478.45 | AP6: 18478.45 | AQ6: 18478.45 | AR6: 18478.45 | AS6: 18478.45 | AT6: 19383.89 | AU6: 19383.89 | AV6: 19383.89 | AW6: 19383.89 | AX6: 19383.89 | AY6: 19383.89 | AZ6: 19383.89 | BA6: 19383.89 | BB6: 19383.89 | BC6: 19383.89 | BD6: 19383.89 | BE6: 19383.89 | BF6: 20372.47 | BG6: 20372.47 | BH6: 20372.47 | BI6: 20372.47 | BJ6: 20372.47 | BK6: 20372.47 | BL6: 20372.47 | BM6: 20372.47 | BN6: 20372.47 | BO6: 20372.47 | BP6: 20372.47 | BQ6: 20372.47 | BR6: 21391.1 | BS6: 21391.1 | BT6: 21391.1 | BU6: 21391.1 | BV6: 21391.1 | BW6: 21391.1 | BX6: 21391.1 | BY6: 21391.1 | BZ6: 21391.1 | CA6: 21391.1 | CB6: 21391.1 | CC6: 21391.1 | CD6: 21391.1 | CE6: 21391.1 | CF6: 21391.1 | CG6: 21391.1 | CH6: 21391.1 | CI6: 21391.1 | CJ6: 21391.1 | CK6: 22567.61 | CL6: 22567.61 | CM6: 22567.61 | CN6: 22567.61 | CO6: 22567.61 | CP6: 24142.65 | CQ6: 24142.65 | CR6: 24142.65 | CS6: 24142.65 | CT6: 24142.65 | CU6: 24142.65 | CV6: 24142.65 | CW6: 24142.65 | CX6: 24142.65 | CY6: 24142.65 | CZ6: 24142.65 | DA6: 24142.65 | DB6: 25745.6 | DC6: 25745.6 | DD6: 25745.6 | DE6: 25745.6 | DF6: 25745.6 | DG6: 25745.6 | DH6: 25745.6 | DI6: 25745.6 | DJ6: 25745.6 | DK6: 25745.6 | DL6: 25745.6 | DM6: 25745.6 | DN6: 27369.67 | DO6: 27369.67 | DP6: 27369.67 | DQ6: 27369.67 | DR6: 27369.67 | DS6: 27369.67 | DT6: 27369.67 | DU6: 27369.67 | DV6: 27369.67 | DW6: 27369.67 | DX6: 27369.67 | DY6: 27369.67 | DZ6: 27369.67 | EA6: 27369.67 | EB6: 27369.67 | EC6: 27369.67 | ED6: 27369.67 | EE6: 27369.67 | EF6: 27369.67 | EG6: 27369.67 | EH6: 27369.67 | EI6: 27369.67 | EJ6: 27369.67 | EK6: 27369.67 | EL6: 27369.67 | EM6: 27369.67 | EN6: 27369.67 | EO6: 27369.67 | EP6: 27369.67 | EQ6: 27369.67 | ER6: 27369.67 | ES6: 27369.67 | ET6: 27369.67 | EU6: 27369.67 | EV6: 27369.67 | EW6: 27369.67 | EX6: 27369.67 | EY6: 27369.67 | EZ6: 27369.67 | FA6: 27369.67 | FB6: 27369.67 | FC6: 27369.67 | FD6: 27369.67 | FE6: 27369.67 | FF6: 27369.67 | FG6: 27369.67 | FH6: 27369.67 | FI6: 27369.67 | FJ6: 27369.67 | FK6: 27369.67 | FL6: 27369.67 | FM6: 27369.67 | FN6: 27369.67 | FO6: 27369.67 | FP6: 29832.94 | FQ6: 29832.94 | FR6: 29832.94 | FS6: 29832.94 | FT6: 29832.94 | FU6: 29832.94 | FV6: 29832.94 | FW6: 29832.94 | FX6: 29832.94 | FY6: 29832.94 | FZ6: 29832.94 | GA6: 29832.94 | GB6: 29832.94 | GC6: 29832.94 | GD6: 29832.94 | GE6: 29832.94 | GF6: 29832.94 | GG6: 29832.94 | GH6: 33086.1 | GI6: 33086.1 | GJ6: 33086.1 | GK6: 33086.1 | GL6: 33086.1 | GM6: 33086.1 | GN6: 33086.1 | GO6: 33086.1 | GP6: 33086.1 | GQ6: 33086.1 | GR6: 33086.1 | GS6: 33086.1 | GT6: 36694 | GU6: 36694 | GV6: 36694 | GW6: 36694 | GX6: 36694
A7: Magistério Superior | B7: 8905.41 | C7: 8905.41 | D7: 10446.81 | E7: 10446.81 | F7: 10446.81 | G7: 10446.81 | H7: 10446.81 | I7: 10446.81 | J7: 10446.81 | K7: 10446.81 | L7: 10446.81 | M7: 10446.81 | N7: 10446.81 | O7: 10446.81 | P7: 11755.05 | Q7: 11755.05 | R7: 11755.05 | S7: 11755.05 | T7: 11755.05 | U7: 11755.05 | V7: 11755.05 | W7: 11755.05 | X7: 11755.05 | Y7: 11755.05 | Z7: 11755.05 | AA7: 11755.05 | AB7: 11755.05 | AC7: 11755.05 | AD7: 11755.05 | AE7: 11755.05 | AF7: 11755.05 | AG7: 11755.05 | AH7: 11755.05 | AI7: 11755.05 | AJ7: 12224.56 | AK7: 12224.56 | AL7: 12224.56 | AM7: 12224.56 | AN7: 12224.56 | AO7: 12224.56 | AP7: 12224.56 | AQ7: 12224.56 | AR7: 12224.56 | AS7: 12224.56 | AT7: 12224.56 | AU7: 12224.56 | AV7: 13790.14 | AW7: 13790.14 | AX7: 13790.14 | AY7: 13790.14 | AZ7: 13790.14 | BA7: 13790.14 | BB7: 13790.14 | BC7: 13790.14 | BD7: 13790.14 | BE7: 13790.14 | BF7: 13790.14 | BG7: 13790.14 | BH7: 15956.07 | BI7: 15956.07 | BJ7: 15956.07 | BK7: 15956.07 | BL7: 15956.07 | BM7: 15956.07 | BN7: 15956.07 | BO7: 15956.07 | BP7: 15956.07 | BQ7: 15956.07 | BR7: 15956.07 | BS7: 15956.07 | BT7: 17057.74 | BU7: 17057.74 | BV7: 17057.74 | BW7: 17057.74 | BX7: 17057.74 | BY7: 17057.74 | BZ7: 17057.74 | CA7: 17057.74 | CB7: 17057.74 | CC7: 17057.74 | CD7: 17057.74 | CE7: 17057.74 | CF7: 17057.74 | CG7: 17057.74 | CH7: 17057.74 | CI7: 17057.74 | CJ7: 17057.74 | CK7: 17995.92 | CL7: 17995.92 | CM7: 17995.92 | CN7: 17995.92 | CO7: 17995.92 | CP7: 18895.71 | CQ7: 18895.71 | CR7: 18895.71 | CS7: 18895.71 | CT7: 18895.71 | CU7: 18895.71 | CV7: 18895.71 | CW7: 19440.48 | CX7: 19440.48 | CY7: 19440.48 | CZ7: 19440.48 | DA7: 19440.48 | DB7: 19440.48 | DC7: 19440.48 | DD7: 19440.48 | DE7: 19440.48 | DF7: 19440.48 | DG7: 19440.48 | DH7: 19440.48 | DI7: 19985.24 | DJ7: 19985.24 | DK7: 19985.24 | DL7: 19985.24 | DM7: 19985.24 | DN7: 19985.24 | DO7: 19985.24 | DP7: 19985.24 | DQ7: 19985.24 | DR7: 19985.24 | DS7: 19985.24 | DT7: 19985.24 | DU7: 20530.01 | DV7: 20530.01 | DW7: 20530.01 | DX7: 20530.01 | DY7: 20530.01 | DZ7: 20530.01 | EA7: 20530.01 | EB7: 20530.01 | EC7: 20530.01 | ED7: 20530.01 | EE7: 20530.01 | EF7: 20530.01 | EG7: 20530.01 | EH7: 20530.01 | EI7: 20530.01 | EJ7: 20530.01 | EK7: 20530.01 | EL7: 20530.01 | EM7: 20530.01 | EN7: 20530.01 | EO7: 20530.01 | EP7: 20530.01 | EQ7: 20530.01 | ER7: 20530.01 | ES7: 20530.01 | ET7: 20530.01 | EU7: 20530.01 | EV7: 20530.01 | EW7: 20530.01 | EX7: 20530.01 | EY7: 20530.01 | EZ7: 20530.01 | FA7: 20530.01 | FB7: 20530.01 | FC7: 20530.01 | FD7: 20530.01 | FE7: 20530.01 | FF7: 20530.01 | FG7: 20530.01 | FH7: 20530.01 | FI7: 20530.01 | FJ7: 20530.01 | FK7: 20530.01 | FL7: 20530.01 | FM7: 20530.01 | FN7: 20530.01 | FO7: 20530.01 | FP7: 22377.72 | FQ7: 22377.72 | FR7: 22377.72 | FS7: 22377.72 | FT7: 22377.72 | FU7: 22377.72 | FV7: 22377.72 | FW7: 22377.72 | FX7: 22377.72 | FY7: 22377.72 | FZ7: 22377.72 | GA7: 22377.72 | GB7: 22377.72 | GC7: 22377.72 | GD7: 22377.72 | GE7: 22377.72 | GF7: 22377.72 | GG7: 22377.72 | GH7: 24143.292 | GI7: 24143.292 | GJ7: 24143.292 | GK7: 24143.292 | GL7: 24143.292 | GM7: 24143.292 | GN7: 24143.292 | GO7: 24143.292 | GP7: 24143.292 | GQ7: 24143.292 | GR7: 24143.292 | GS7: 24143.292 | GT7: 26319.473 | GU7: 26319.473 | GV7: 26319.473 | GW7: 26319.473 | GX7: 26319.473
A8: Agências Reguladoras | B8: 14740 | C8: 14740 | D8: 16390 | E8: 16390 | F8: 16390 | G8: 16390 | H8: 16390 | I8: 16390 | J8: 16390 | K8: 16390 | L8: 16390 | M8: 16390 | N8: 16390 | O8: 16390 | P8: 17479 | Q8: 17480 | R8: 17481 | S8: 17479 | T8: 17479 | U8: 17479 | V8: 17479 | W8: 17479 | X8: 17479 | Y8: 17479 | Z8: 17479 | AA8: 17479 | AB8: 17479 | AC8: 17479 | AD8: 17479 | AE8: 17479 | AF8: 17479 | AG8: 17479 | AH8: 17479 | AI8: 17479 | AJ8: 17479 | AK8: 17479 | AL8: 17479 | AM8: 17479 | AN8: 17479 | AO8: 17479 | AP8: 17479 | AQ8: 17479 | AR8: 17479 | AS8: 17479 | AT8: 17479 | AU8: 17479 | AV8: 17479 | AW8: 17479 | AX8: 17479 | AY8: 17479 | AZ8: 17479 | BA8: 17479 | BB8: 17479 | BC8: 17479 | BD8: 17479 | BE8: 17479 | BF8: 18086.31 | BG8: 18086.31 | BH8: 18086.31 | BI8: 18086.31 | BJ8: 18086.31 | BK8: 18086.31 | BL8: 18086.31 | BM8: 18086.31 | BN8: 18086.31 | BO8: 18086.31 | BP8: 18086.31 | BQ8: 18086.31 | BR8: 18990.47 | BS8: 18990.47 | BT8: 18990.47 | BU8: 18990.47 | BV8: 18990.47 | BW8: 18990.47 | BX8: 18990.47 | BY8: 18990.47 | BZ8: 18990.47 | CA8: 18990.47 | CB8: 18990.47 | CC8: 18990.47 | CD8: 18990.47 | CE8: 18990.47 | CF8: 18990.47 | CG8: 18990.47 | CH8: 18990.47 | CI8: 18990.47 | CJ8: 18990.47 | CK8: 20034.72 | CL8: 20034.72 | CM8: 20034.72 | CN8: 20034.72 | CO8: 20034.72 | CP8: 21036.46 | CQ8: 21036.46 | CR8: 21036.46 | CS8: 21036.46 | CT8: 21036.46 | CU8: 21036.46 | CV8: 21036.46 | CW8: 21036.46 | CX8: 21036.46 | CY8: 21036.46 | CZ8: 21036.46 | DA8: 21036.46 | DB8: 21036.46 | DC8: 21036.46 | DD8: 21036.46 | DE8: 21036.46 | DF8: 21036.46 | DG8: 21036.46 | DH8: 21036.46 | DI8: 21036.46 | DJ8: 21036.46 | DK8: 21036.46 | DL8: 21036.46 | DM8: 21036.46 | DN8: 21036.46 | DO8: 21036.46 | DP8: 21036.46 | DQ8: 21036.46 | DR8: 21036.46 | DS8: 21036.46 | DT8: 21036.46 | DU8: 21036.46 | DV8: 21036.46 | DW8: 21036.46 | DX8: 21036.46 | DY8: 21036.46 | DZ8: 21036.46 | EA8: 21036.46 | EB8: 21036.46 | EC8: 21036.46 | ED8: 21036.46 | EE8: 21036.46 | EF8: 21036.46 | EG8: 21036.46 | EH8: 21036.46 | EI8: 21036.46 | EJ8: 21036.46 | EK8: 21036.46 | EL8: 21036.46 | EM8: 21036.46 | EN8: 21036.46 | EO8: 21036.46 | EP8: 21036.46 | EQ8: 21036.46 | ER8: 21036.46 | ES8: 21036.46 | ET8: 21036.46 | EU8: 21036.46 | EV8: 21036.46 | EW8: 21036.46 | EX8: 21036.46 | EY8: 21036.46 | EZ8: 21036.46 | FA8: 21036.46 | FB8: 21036.46 | FC8: 21036.46 | FD8: 21036.46 | FE8: 21036.46 | FF8: 21036.46 | FG8: 21036.46 | FH8: 21036.46 | FI8: 21036.46 | FJ8: 21036.46 | FK8: 21036.46 | FL8: 21036.46 | FM8: 21036.46 | FN8: 21036.46 | FO8: 21036.46 | FP8: 22929.74 | FQ8: 22929.74 | FR8: 22929.74 | FS8: 22929.74 | FT8: 22929.74 | FU8: 22929.74 | FV8: 22929.74 | FW8: 22929.74 | FX8: 22929.74 | FY8: 22929.74 | FZ8: 22929.74 | GA8: 22929.74 | GB8: 22929.74 | GC8: 22929.74 | GD8: 22929.74 | GE8: 22929.74 | GF8: 22929.74 | GG8: 22929.74 | GH8: 22929.74 | GI8: 22929.74 | GJ8: 22929.74 | GK8: 22929.74 | GL8: 26258.71 | GM8: 26258.71 | GN8: 26258.71 | GO8: 26258.71 | GP8: 26258.71 | GQ8: 26258.71 | GR8: 26258.71 | GS8: 26258.71 | GT8: 26258.71 | GU8: 26258.71 | GV8: 26258.71 | GW8: 26258.71 | GX8: 27834.23
A9: AR corrigido IPCA | B9: - | C9: - | D9: - | E9: - | F9: - | G9: - | H9: - | I9: - | J9: - | K9: - | L9: - | M9: - | N9: - | O9: - | P9: - | Q9: - | R9: - | S9: 17479 | T9: =$S9*Inflação!X6 -> 17624.076 | U9: =$S9*Inflação!Y6 -> 17735.107 | V9: =$S9*Inflação!Z6 -> 17882.309 | W9: =$S9*Inflação!AA6 -> 18025.367 | X9: =$S9*Inflação!AB6 -> 18167.768 | Y9: =$S9*Inflação!AC6 -> 18307.659 | Z9: =$S9*Inflação!AD6 -> 18393.705 | AA9: =$S9*Inflação!AE6 -> 18421.296 | ... GX9: =$S9*Inflação!HB6 -> 39770.146
A10: Diferença BACEN - AR | B10: =B6-B8 -> -228.4 | C10: =C6-C8 -> -228.4 | D10: =D6-D8 -> 957 | E10: =E6-E8 -> 957 | F10: =F6-F8 -> 957 | G10: =G6-G8 -> 957 | H10: =H6-H8 -> 957 | I10: =I6-I8 -> 957 | ... GX10: =GX6-GX8 -> 8859.77
A11: Diferença AR_Corrigido - AR | S11: =S9-S8 -> 0 | T11: =T9-T8 -> 145.0757 | U11: =U9-U8 -> 256.10738 | V11: =V9-V8 -> 403.30877 | W11: =W9-W8 -> 546.36724 | X11: =X9-X8 -> 688.76764 | Y11: =Y9-Y8 -> 828.65945 | Z11: =Z9-Z8 -> 914.70545 | ... GX11: =GX9-GX8 -> 11935.916 | GZ11: =SUM(T11:GA11)/GA8 -> 51.869539
A13: Receita | S13: =(S4-$S4)/$S4 -> 0 | T13: =(T4-$S4)/$S4 -> 0 | U13: =(U4-$S4)/$S4 -> 0 | V13: =(V4-$S4)/$S4 -> 0 | W13: =(W4-$S4)/$S4 -> 0 | X13: =(X4-$S4)/$S4 -> 0 | Y13: =(Y4-$S4)/$S4 -> 0 | Z13: =(Z4-$S4)/$S4 -> 0 | ... GX13: =(GX4-$S4)/$S4 -> 1.1212765
A14: PF | S14: =(S5-$S5)/$S5 -> 0 | T14: =(T5-$S5)/$S5 -> 0 | U14: =(U5-$S5)/$S5 -> 0 | V14: =(V5-$S5)/$S5 -> 0 | W14: =(W5-$S5)/$S5 -> 0 | X14: =(X5-$S5)/$S5 -> 0 | Y14: =(Y5-$S5)/$S5 -> 0 | Z14: =(Z5-$S5)/$S5 -> 0 | ... GX14: =(GX5-$S5)/$S5 -> 1.099004
A15: BACEN | S15: =(S6-$S6)/$S6 -> 0 | T15: =(T6-$S6)/$S6 -> 0 | U15: =(U6-$S6)/$S6 -> 0 | V15: =(V6-$S6)/$S6 -> 0 | W15: =(W6-$S6)/$S6 -> 0 | X15: =(X6-$S6)/$S6 -> 0 | Y15: =(Y6-$S6)/$S6 -> 0 | Z15: =(Z6-$S6)/$S6 -> 0 | ... GX15: =(GX6-$S6)/$S6 -> 0.98577262
A16: Magistério Superior | S16: =(S7-$S7)/$S7 -> 0 | T16: =(T7-$S7)/$S7 -> 0 | U16: =(U7-$S7)/$S7 -> 0 | V16: =(V7-$S7)/$S7 -> 0 | W16: =(W7-$S7)/$S7 -> 0 | X16: =(X7-$S7)/$S7 -> 0 | Y16: =(Y7-$S7)/$S7 -> 0 | Z16: =(Z7-$S7)/$S7 -> 0 | ... GX16: =(GX7-$S7)/$S7 -> 1.2389928
A17: Agências Reguladoras | S17: =(S8-$S8)/$S8 -> 0 | T17: =(T8-$S8)/$S8 -> 0 | U17: =(U8-$S8)/$S8 -> 0 | V17: =(V8-$S8)/$S8 -> 0 | W17: =(W8-$S8)/$S8 -> 0 | X17: =(X8-$S8)/$S8 -> 0 | Y17: =(Y8-$S8)/$S8 -> 0 | Z17: =(Z8-$S8)/$S8 -> 0 | ... GX17: =(GX8-$S8)/$S8 -> 0.59243835
A19: % IPCA ACUM
A20: % SAL. ACUM

Sheet Inflação
A1: Mês/Ano | B1: 39814 | C1: 39845 | D1: 39873 | E1: 39904 | F1: 39934 | G1: 39965 | H1: 39995 | I1: 40026 | J1: 40057 | K1: 40087 | L1: 40118 | M1: 40148 | N1: 40179 | O1: 40210 | P1: 40238 | Q1: 40269 | R1: 40299 | S1: 40330 | T1: 40360 | U1: 40391 | V1: 40422 | W1: 40452 | X1: 40483 | Y1: 40513 | Z1: 40544 | AA1: 40575 | AB1: 40603 | AC1: 40634 | AD1: 40664 | AE1: 40695 | AF1: 40725 | AG1: 40756 | AH1: 40787 | AI1: 40817 | AJ1: 40848 | AK1: 40878 | AL1: 40909 | AM1: 40940 | AN1: 40969 | AO1: 41000 | AP1: 41030 | AQ1: 41061 | AR1: 41091 | AS1: 41122 | AT1: 41153 | AU1: 41183 | AV1: 41214 | AW1: 41244 | AX1: 41275 | AY1: 41306 | AZ1: 41334 | BA1: 41365 | BB1: 41395 | BC1: 41426 | BD1: 41456 | BE1: 41487 | BF1: 41518 | BG1: 41548 | BH1: 41579 | BI1: 41609 | BJ1: 41640 | BK1: 41671 | BL1: 41699 | BM1: 41730 | BN1: 41760 | BO1: 41791 | BP1: 41821 | BQ1: 41852 | BR1: 41883 | BS1: 41913 | BT1: 41944 | BU1: 41974 | BV1: 42005 | BW1: 42036 | BX1: 42064 | BY1: 42095 | BZ1: 42125 | CA1: 42156 | CB1: 42186 | CC1: 42217 | CD1: 42248 | CE1: 42278 | CF1: 42309 | CG1: 42339 | CH1: 42370 | CI1: 42401 | CJ1: 42430 | CK1: 42461 | CL1: 42491 | CM1: 42522 | CN1: 42552 | CO1: 42583 | CP1: 42614 | CQ1: 42644 | CR1: 42675 | CS1: 42705 | CT1: 42736 | CU1: 42767 | CV1: 42795 | CW1: 42826 | CX1: 42856 | CY1: 42887 | CZ1: 42917 | DA1: 42948 | DB1: 42979 | DC1: 43009 | DD1: 43040 | DE1: 43070 | DF1: 43101 | DG1: 43132 | DH1: 43160 | DI1: 43191 | DJ1: 43221 | DK1: 43252 | DL1: 43282 | DM1: 43313 | DN1: 43344 | DO1: 43374 | DP1: 43405 | DQ1: 43435 | DR1: 43466 | DS1: 43497 | DT1: 43525 | DU1: 43556 | DV1: 43586 | DW1: 43617 | DX1: 43647 | DY1: 43678 | DZ1: 43709 | EA1: 43739 | EB1: 43770 | EC1: 43800 | ED1: 43831 | EE1: 43862 | EF1: 43891 | EG1: 43922 | EH1: 43952 | EI1: 43983 | EJ1: 44013 | EK1: 44044 | EL1: 44075 | EM1: 44105 | EN1: 44136 | EO1: 44166 | EP1: 44197 | EQ1: 44228 | ER1: 44256 | ES1: 44287 | ET1: 44317 | EU1: 44348 | EV1: 44378 | EW1: 44409 | EX1: 44440 | EY1: 44470 | EZ1: 44501 | FA1: 44531 | FB1: 44562 | FC1: 44593 | FD1: 44621 | FE1: 44652 | FF1: 44682 | FG1: 44713 | FH1: 44743 | FI1: 44774 | FJ1: 44805 | FK1: 44835 | FL1: 44866 | FM1: 44896 | FN1: 44927 | FO1: 44958 | FP1: 44986 | FQ1: 45017 | FR1: 45047 | FS1: 45078 | FT1: 45108 | FU1: 45139 | FV1: 45170 | FW1: 45200 | FX1: 45231 | FY1: 45261 | FZ1: 45292 | GA1: 45323 | GB1: 45352 | GC1: 45383 | GD1: 45413 | GE1: 45444 | GF1: 45474 | GG1: 45505 | GH1: 45536 | GI1: 45566 | GJ1: 45597 | GK1: 45627 | GL1: 45658 | GM1: 45689 | GN1: 45717 | GO1: 45748 | GP1: 45778 | GQ1: 45809 | GR1: 45839 | GS1: 45870 | GT1: 45901 | GU1: 45931 | GV1: 45962 | GW1: 45992 | GX1: 46023 | GY1: 46054 | GZ1: 46082 | HA1: 46113 | HB1: 46143
A2: INPC mês (%) | B2: 0.64 | C2: 0.31 | D2: 0.2 | E2: 0.55 | F2: 0.6 | G2: 0.42 | H2: 0.23 | I2: 0.08 | J2: 0.16 | K2: 0.24 | L2: 0.37 | M2: 0.24 | N2: 0.88 | O2: 0.7 | P2: 0.71 | Q2: 0.73 | R2: 0.43 | S2: -0.11 | T2: -0.07 | U2: -0.07 | V2: 0.54 | W2: 0.92 | X2: 1.03 | Y2: 0.6 | Z2: 0.94 | AA2: 0.54 | AB2: 0.66 | AC2: 0.72 | AD2: 0.57 | AE2: 0.22 | AF2: 0 | AG2: 0.42 | AH2: 0.45 | AI2: 0.32 | AJ2: 0.57 | AK2: 0.51 | AL2: 0.51 | AM2: 0.39 | AN2: 0.18 | AO2: 0.64 | AP2: 0.55 | AQ2: 0.26 | AR2: 0.43 | AS2: 0.45 | AT2: 0.63 | AU2: 0.71 | AV2: 0.54 | AW2: 0.74 | AX2: 0.92 | AY2: 0.52 | AZ2: 0.6 | BA2: 0.59 | BB2: 0.35 | BC2: 0.28 | BD2: -0.13 | BE2: 0.16 | BF2: 0.27 | BG2: 0.61 | BH2: 0.54 | BI2: 0.72 | BJ2: 0.63 | BK2: 0.64 | BL2: 0.82 | BM2: 0.78 | BN2: 0.6 | BO2: 0.26 | BP2: 0.13 | BQ2: 0.18 | BR2: 0.49 | BS2: 0.38 | BT2: 0.53 | BU2: 0.62 | BV2: 1.48 | BW2: 1.16 | BX2: 1.51 | BY2: 0.71 | BZ2: 0.99 | CA2: 0.77 | CB2: 0.58 | CC2: 0.25 | CD2: 0.51 | CE2: 0.77 | CF2: 1.11 | CG2: 0.9 | CH2: 1.51 | CI2: 0.95 | CJ2: 0.44 | CK2: 0.64 | CL2: 0.98 | CM2: 0.47 | CN2: 0.64 | CO2: 0.31 | CP2: 0.08 | CQ2: 0.17 | CR2: 0.07 | CS2: 0.14 | CT2: 0.42 | CU2: 0.24 | CV2: 0.32 | CW2: 0.08 | CX2: 0.36 | CY2: -0.3 | CZ2: 0.17 | DA2: -0.03 | DB2: -0.02 | DC2: 0.37 | DD2: 0.18 | DE2: 0.26 | DF2: 0.23 | DG2: 0.18 | DH2: 0.07 | DI2: 0.21 | DJ2: 0.43 | DK2: 1.43 | DL2: 0.25 | DM2: 0 | DN2: 0.3 | DO2: 0.4 | DP2: -0.25 | DQ2: 0.14 | DR2: 0.36 | DS2: 0.54 | DT2: 0.77 | DU2: 0.6 | DV2: 0.15 | DW2: 0.01 | DX2: 0.1 | DY2: 0.12 | DZ2: -0.05 | EA2: 0.04 | EB2: 0.54 | EC2: 1.22 | ED2: 0.19 | EE2: 0.17 | EF2: 0.18 | EG2: -0.23 | EH2: -0.25 | EI2: 0.3 | EJ2: 0.44 | EK2: 0.36 | EL2: 0.87 | EM2: 0.89 | EN2: 0.95 | EO2: 1.46 | EP2: 0.27 | EQ2: 0.82 | ER2: 0.86 | ES2: 0.38 | ET2: 0.96 | EU2: 0.6 | EV2: 1.02 | EW2: 0.88 | EX2: 1.2 | EY2: 1.16 | EZ2: 0.84 | FA2: 0.73 | FB2: 0.67 | FC2: 1 | FD2: 1.71 | FE2: 1.04 | FF2: 0.45 | FG2: 0.62 | FH2: -0.6 | FI2: -0.31 | FJ2: -0.32 | FK2: 0.47 | FL2: 0.38 | FM2: 0.69 | FN2: 0.46 | FO2: 0.77 | FP2: 0.64 | FQ2: 0.53 | FR2: 0.36 | FS2: -0.1 | FT2: -0.09 | FU2: 0.2 | FV2: 0.11 | FW2: 0.12 | FX2: 0.1 | FY2: 0.55 | FZ2: 0.57 | GA2: 0.81 | GB2: 0.19 | GC2: 0.37 | GD2: 0.46 | GE2: 0.25 | GF2: =((1+3.5)^(1/12))-1 -> 0.13353354 | GG2: =((1+3.5)^(1/12))-1 -> 0.13353354 | GH2: =((1+3.5)^(1/12))-1 -> 0.13353354 | GI2: =((1+3.5)^(1/12))-1 -> 0.13353354 | GJ2: =((1+3.5)^(1/12))-1 -> 0.13353354 | GK2: =((1+3.5)^(1/12))-1 -> 0.13353354 | GL2: =((1+3)^(1/12))-1 -> 0.12246205 | GM2: =((1+3)^(1/12))-1 -> 0.12246205 | GN2: =((1+3)^(1/12))-1 -> 0.12246205 | GO2: =((1+3)^(1/12))-1 -> 0.12246205 | GP2: =((1+3)^(1/12))-1 -> 0.12246205 | GQ2: =((1+3)^(1/12))-1 -> 0.12246205 | GR2: =((1+3)^(1/12))-1 -> 0.12246205 | GS2: =((1+3)^(1/12))-1 -> 0.12246205 | ... HB2: =((1+3)^(1/12))-1 -> 0.12246205
A3: IPCA mês (%) | B3: 0.48 | C3: 0.55 | D3: 0.2 | E3: 0.48 | F3: 0.47 | G3: 0.36 | H3: 0.24 | I3: 0.15 | J3: 0.24 | K3: 0.28 | L3: 0.41 | M3: 0.37 | N3: 0.75 | O3: 0.78 | P3: 0.52 | Q3: 0.57 | R3: 0.43 | S3: 0 | T3: 0.01 | U3: 0.04 | V3: 0.45 | W3: 0.75 | X3: 0.83 | Y3: 0.63 | Z3: 0.83 | AA3: 0.8 | AB3: 0.79 | AC3: 0.77 | AD3: 0.47 | AE3: 0.15 | AF3: 0.16 | AG3: 0.37 | AH3: 0.53 | AI3: 0.43 | AJ3: 0.52 | AK3: 0.5 | AL3: 0.56 | AM3: 0.45 | AN3: 0.21 | AO3: 0.64 | AP3: 0.36 | AQ3: 0.08 | AR3: 0.43 | AS3: 0.41 | AT3: 0.57 | AU3: 0.59 | AV3: 0.6 | AW3: 0.79 | AX3: 0.86 | AY3: 0.6 | AZ3: 0.47 | BA3: 0.55 | BB3: 0.37 | BC3: 0.26 | BD3: 0.03 | BE3: 0.24 | BF3: 0.35 | BG3: 0.57 | BH3: 0.54 | BI3: 0.92 | BJ3: 0.55 | BK3: 0.69 | BL3: 0.92 | BM3: 0.67 | BN3: 0.46 | BO3: 0.4 | BP3: 0.01 | BQ3: 0.25 | BR3: 0.57 | BS3: 0.42 | BT3: 0.51 | BU3: 0.78 | BV3: 1.24 | BW3: 1.22 | BX3: 1.32 | BY3: 0.71 | BZ3: 0.74 | CA3: 0.79 | CB3: 0.62 | CC3: 0.22 | CD3: 0.54 | CE3: 0.82 | CF3: 1.01 | CG3: 0.96 | CH3: 1.27 | CI3: 0.9 | CJ3: 0.43 | CK3: 0.61 | CL3: 0.78 | CM3: 0.35 | CN3: 0.52 | CO3: 0.44 | CP3: 0.08 | CQ3: 0.26 | CR3: 0.18 | CS3: 0.3 | CT3: 0.38 | CU3: 0.33 | CV3: 0.25 | CW3: 0.14 | CX3: 0.31 | CY3: -0.23 | CZ3: 0.24 | DA3: 0.19 | DB3: 0.16 | DC3: 0.42 | DD3: 0.28 | DE3: 0.44 | DF3: 0.29 | DG3: 0.32 | DH3: 0.09 | DI3: 0.22 | DJ3: 0.4 | DK3: 1.26 | DL3: 0.33 | DM3: -0.09 | DN3: 0.48 | DO3: 0.45 | DP3: -0.21 | DQ3: 0.15 | DR3: 0.32 | DS3: 0.43 | DT3: 0.75 | DU3: 0.57 | DV3: 0.13 | DW3: 0.01 | DX3: 0.19 | DY3: 0.11 | DZ3: -0.04 | EA3: 0.1 | EB3: 0.51 | EC3: 1.15 | ED3: 0.21 | EE3: 0.25 | EF3: 0.07 | EG3: -0.31 | EH3: -0.38 | EI3: 0.26 | EJ3: 0.36 | EK3: 0.24 | EL3: 0.64 | EM3: 0.86 | EN3: 0.89 | EO3: 1.35 | EP3: 0.25 | EQ3: 0.86 | ER3: 0.93 | ES3: 0.31 | ET3: 0.83 | EU3: 0.53 | EV3: 0.96 | EW3: 0.87 | EX3: 1.16 | EY3: 1.25 | EZ3: 0.95 | FA3: 0.73 | FB3: 0.54 | FC3: 1.01 | FD3: 1.62 | FE3: 1.06 | FF3: 0.47 | FG3: 0.67 | FH3: -0.68 | FI3: -0.36 | FJ3: -0.29 | FK3: 0.59 | FL3: 0.41 | FM3: 0.62 | FN3: 0.53 | FO3: 0.84 | FP3: 0.71 | FQ3: 0.61 | FR3: 0.23 | FS3: -0.08 | FT3: 0.12 | FU3: 0.23 | FV3: 0.26 | FW3: 0.24 | FX3: 0.28 | FY3: 0.56 | FZ3: 0.42 | GA3: 0.83 | GB3: 0.16 | GC3: 0.38 | GD3: 0.46 | GE3: 0.21 | GF3: =((1+3.88)^(1/12))-1 -> 0.14121723 | GG3: =((1+3.88)^(1/12))-1 -> 0.14121723 | GH3: =((1+3.88)^(1/12))-1 -> 0.14121723 | GI3: =((1+3.88)^(1/12))-1 -> 0.14121723 | GJ3: =((1+3.88)^(1/12))-1 -> 0.14121723 | GK3: =((1+3.88)^(1/12))-1 -> 0.14121723 | GL3: =((1+3.77)^(1/12))-1 -> 0.13905107 | GM3: =((1+3.77)^(1/12))-1 -> 0.13905107 | GN3: =((1+3.77)^(1/12))-1 -> 0.13905107 | GO3: =((1+3.77)^(1/12))-1 -> 0.13905107 | GP3: =((1+3.77)^(1/12))-1 -> 0.13905107 | GQ3: =((1+3.77)^(1/12))-1 -> 0.13905107 | GR3: =((1+3.77)^(1/12))-1 -> 0.13905107 | GS3: =((1+3.77)^(1/12))-1 -> 0.13905107 | ... GW3: =((1+3.77)^(1/12))-1 -> 0.13905107 | GX3: =((1+3.6)^(1/12))-1 -> 0.1356116 | GY3: =((1+3.6)^(1/12))-1 -> 0.1356116 | GZ3: =((1+3.6)^(1/12))-1 -> 0.1356116 | HA3: =((1+3.6)^(1/12))-1 -> 0.1356116 | HB3: =((1+3.6)^(1/12))-1 -> 0.1356116
A4: IGP-M mês (%) | B4: -0.44 | C4: 0.26 | D4: -0.74 | E4: -0.15 | F4: -0.07 | G4: -0.1 | H4: -0.43 | I4: -0.36 | J4: 0.42 | K4: 0.05 | L4: 0.1 | M4: -0.26 | N4: 0.63 | O4: 1.18 | P4: 0.94 | Q4: 0.77 | R4: 1.19 | S4: 0.85 | T4: 0.15 | U4: 0.77 | V4: 1.15 | W4: 1.01 | X4: 1.45 | Y4: 0.69 | Z4: 0.79 | AA4: 1 | AB4: 0.62 | AC4: 0.45 | AD4: 0.43 | AE4: -0.18 | AF4: -0.12 | AG4: 0.44 | AH4: 0.65 | AI4: 0.53 | AJ4: 0.5 | AK4: -0.12 | AL4: 0.25 | AM4: -0.06 | AN4: 0.43 | AO4: 0.85 | AP4: 1.02 | AQ4: 0.66 | AR4: 1.34 | AS4: 1.43 | AT4: 0.97 | AU4: 0.02 | AV4: -0.03 | AW4: 0.68 | AX4: 0.34 | AY4: 0.29 | AZ4: 0.21 | BA4: 0.15 | BB4: 0 | BC4: 0.75 | BD4: 0.26 | BE4: 0.15 | BF4: 1.5 | BG4: 0.86 | BH4: 0.29 | BI4: 0.6 | BJ4: 0.48 | BK4: 0.38 | BL4: 1.67 | BM4: 0.78 | BN4: -0.13 | BO4: -0.74 | BP4: -0.61 | BQ4: -0.27 | BR4: 0.2 | BS4: 0.28 | BT4: 0.98 | BU4: 0.62 | BV4: 0.76 | BW4: 0.27 | BX4: 0.98 | BY4: 1.17 | BZ4: 0.41 | CA4: 0.67 | CB4: 0.69 | CC4: 0.28 | CD4: 0.95 | CE4: 1.89 | CF4: 1.52 | CG4: 0.49 | CH4: 1.14 | CI4: 1.29 | CJ4: 0.51 | CK4: 0.33 | CL4: 0.82 | CM4: 1.69 | CN4: 0.18 | CO4: 0.15 | CP4: 0.2 | CQ4: 0.16 | CR4: -0.03 | CS4: 0.54 | CT4: 0.64 | CU4: 0.08 | CV4: 0.01 | CW4: -1.1 | CX4: -0.93 | CY4: -0.67 | CZ4: -0.72 | DA4: 0.1 | DB4: 0.47 | DC4: 0.2 | DD4: 0.52 | DE4: 0.89 | DF4: 0.76 | DG4: 0.07 | DH4: 0.64 | DI4: 0.57 | DJ4: 1.38 | DK4: 1.87 | DL4: 0.51 | DM4: 0.7 | DN4: 1.52 | DO4: 0.89 | DP4: -0.49 | DQ4: -1.08 | DR4: 0.01 | DS4: 0.88 | DT4: 1.26 | DU4: 0.92 | DV4: 0.45 | DW4: 0.8 | DX4: 0.4 | DY4: -0.67 | DZ4: -0.01 | EA4: 0.68 | EB4: 0.3 | EC4: 2.09 | ED4: 0.48 | EE4: -0.04 | EF4: 1.24 | EG4: 0.8 | EH4: 0.28 | EI4: 1.56 | EJ4: 2.23 | EK4: 2.74 | EL4: 4.34 | EM4: 3.23 | EN4: 3.28 | EO4: 0.96 | EP4: 2.58 | EQ4: 2.53 | ER4: 2.94 | ES4: 1.51 | ET4: 4.1 | EU4: 0.6 | EV4: 0.78 | EW4: 0.66 | EX4: -0.64 | EY4: 0.64 | EZ4: 0.02 | FA4: 0.87 | FB4: 1.82 | FC4: 1.83 | FD4: 1.74 | FE4: 1.41 | FF4: 0.52 | FG4: 0.59 | FH4: 0.21 | FI4: -0.7 | FJ4: -0.95 | FK4: -0.97 | FL4: -0.56 | FM4: 0.45 | FN4: 0.21 | FO4: -0.06 | FP4: 0.05 | FQ4: -0.95 | FR4: -1.84 | FS4: -1.93 | FT4: -0.72 | FU4: -0.14 | FV4: 0.37 | FW4: 0.5 | FX4: 0.59 | FY4: 0.74 | FZ4: 0.07 | GA4: -0.52 | GB4: -0.47 | GC4: 0.31 | GD4: 0.89 | GE4: 0.81 | GF4: =((1+3.4)^(1/12))-1 -> 0.13141272 | GG4: =((1+3.4)^(1/12))-1 -> 0.13141272 | GH4: =((1+3.4)^(1/12))-1 -> 0.13141272 | GI4: =((1+3.4)^(1/12))-1 -> 0.13141272 | GJ4: =((1+3.4)^(1/12))-1 -> 0.13141272 | GK4: =((1+3.4)^(1/12))-1 -> 0.13141272 | GL4: =((1+3.9)^(1/12))-1 -> 0.14160626 | GM4: =((1+3.9)^(1/12))-1 -> 0.14160626 | GN4: =((1+3.9)^(1/12))-1 -> 0.14160626 | GO4: =((1+3.9)^(1/12))-1 -> 0.14160626 | GP4: =((1+3.9)^(1/12))-1 -> 0.14160626 | GQ4: =((1+3.9)^(1/12))-1 -> 0.14160626 | GR4: =((1+3.9)^(1/12))-1 -> 0.14160626 | GS4: =((1+3.9)^(1/12))-1 -> 0.14160626 | ... HB4: =((1+3.9)^(1/12))-1 -> 0.14160626
A5: multiplicador INPC acum (%) | W5: 1 | X5: =W5*(1+0.01*X2) -> 1.0103 | Y5: =X5*(1+0.01*Y2) -> 1.0163618 | Z5: =Y5*(1+0.01*Z2) -> 1.0259156 | AA5: =Z5*(1+0.01*AA2) -> 1.0314555 | AB5: =AA5*(1+0.01*AB2) -> 1.0382632 | AC5: =AB5*(1+0.01*AC2) -> 1.0457386 | AD5: =AC5*(1+0.01*AD2) -> 1.0516994 | AE5: =AD5*(1+0.01*AE2) -> 1.0540131 | ... HB5: =HA5*(1+0.01*HB2) -> 2.2651703
A6: multiplicador IPCA acum (%) | W6: 1 | X6: =W6*(1+0.01*X3) -> 1.0083 | Y6: =X6*(1+0.01*Y3) -> 1.0146523 | Z6: =Y6*(1+0.01*Z3) -> 1.0230739 | AA6: =Z6*(1+0.01*AA3) -> 1.0312585 | AB6: =AA6*(1+0.01*AB3) -> 1.0394054 | AC6: =AB6*(1+0.01*AC3) -> 1.0474089 | AD6: =AC6*(1+0.01*AD3) -> 1.0523317 | AE6: =AD6*(1+0.01*AE3) -> 1.0539102 | ... HB6: =HA6*(1+0.01*HB3) -> 2.2753102
A7: multiplicador IGP-M acum (%) | W7: 1 | X7: =W7*(1+0.01*X4) -> 1.0145 | Y7: =X7*(1+0.01*Y4) -> 1.0215 | Z7: =Y7*(1+0.01*Z4) -> 1.0295699 | AA7: =Z7*(1+0.01*AA4) -> 1.0398656 | AB7: =AA7*(1+0.01*AB4) -> 1.0463128 | AC7: =AB7*(1+0.01*AC4) -> 1.0510212 | AD7: =AC7*(1+0.01*AD4) -> 1.0555406 | AE7: =AD7*(1+0.01*AE4) -> 1.0536406 | ... HB7: =HA7*(1+0.01*HB4) -> 2.6627012
A8: INPC período (%) | W8: =W5-1 -> 0 | X8: =X5-1 -> 0.0103 | Y8: =Y5-1 -> 0.0163618 | Z8: =Z5-1 -> 0.025915601 | AA8: =AA5-1 -> 0.031455545 | AB8: =AB5-1 -> 0.038263152 | AC8: =AC5-1 -> 0.045738646 | AD8: =AD5-1 -> 0.051699357 | ... HB8: =HB5-1 -> 1.2651703
A9: IPCA período (%) | W9: =W6-1 -> 0 | X9: =X6-1 -> 0.0083 | Y9: =Y6-1 -> 0.01465229 | Z9: =Z6-1 -> 0.023073904 | AA9: =AA6-1 -> 0.031258495 | AB9: =AB6-1 -> 0.039405437 | AC9: =AC6-1 -> 0.047408859 | AD9: =AD6-1 -> 0.052331681 | ... HB9: =HB6-1 -> 1.2753102
A10: IGP-M período (%) | W10: =W7-1 -> 0 | X10: =X7-1 -> 0.0145 | Y10: =Y7-1 -> 0.02150005 | Z10: =Z7-1 -> 0.0295699 | AA10: =AA7-1 -> 0.039865599 | AB10: =AB7-1 -> 0.046312766 | AC10: =AC7-1 -> 0.051021174 | AD10: =AD7-1 -> 0.055540565 | ... HB10: =HB7-1 -> 1.6627012
A11: *base outubro de 2010
A12: *fonte BACEN e FGV
A13: *projeção futura do IPCA 2024, 2025 e 2026 obtida em: https://valor.globo.com/brasil/noticia/2024/06/03/projecao-para-ipca-sobe-em-2024-2025-e-2026-aponta-focus.ghtml
A14: *projeção futura do INPC 2024 e 2025 em diante: https://agenciabrasil.ebc.com.br/economia/noticia/2024-04/projeto-da-ldo-preve-crescimento-de-28-para-o-proximo-ano
